BEGIN:VCALENDAR
VERSION:2.0
PRODID:spatie/icalendar-generator
DESCRIPTION:Events from United Bikers of Maine
X-WR-CALDESC:Events from United Bikers of Maine
REFRESH-INTERVAL;VALUE=DURATION:PT1440M
X-PUBLISHED-TTL:PT1440M
BEGIN:VTIMEZONE
TZID:Etc/GMT+0
BEGIN:STANDARD
DTSTART:20231017T103000Z
TZOFFSETFROM:+0000
TZOFFSETTO:+0000
END:STANDARD
END:VTIMEZONE
BEGIN:VTIMEZONE
TZID:UTC
BEGIN:STANDARD
DTSTART:20250725T081448Z
TZOFFSETFROM:+0000
TZOFFSETTO:+0000
END:STANDARD
END:VTIMEZONE
BEGIN:VEVENT
UID:12-11
DTSTAMP:20260421T081448Z
SUMMARY:2nd Annual Doug Burnell Ride
LOCATION:Kennebec
ORGANIZER;CN=unitedbikerstg:MAILTO:web@adventure29.com
DTSTART;TZID=Etc/GMT+0:20240713T103000
DTEND;TZID=Etc/GMT+0:20240713T113000
X-ALT-DESC;FMTTYPE=TEXT/HTML:to support biker down fund
CATEGORIES:General
URL;VALUE=URI:https://ubm-usa.org/mc-events/2nd-annual-doug-burnell-ride/
METHOD:PUBLISH
END:VEVENT
END:VCALENDAR