BEGIN:VCALENDAR
VERSION:2.0
PRODID:spatie/icalendar-generator
DESCRIPTION:Events from United Bikers of Maine
X-WR-CALDESC:Events from United Bikers of Maine
REFRESH-INTERVAL;VALUE=DURATION:PT1440M
X-PUBLISHED-TTL:PT1440M
BEGIN:VTIMEZONE
TZID:Etc/GMT+0
BEGIN:STANDARD
DTSTART:20230719T110000Z
TZOFFSETFROM:+0000
TZOFFSETTO:+0000
END:STANDARD
END:VTIMEZONE
BEGIN:VTIMEZONE
TZID:UTC
BEGIN:STANDARD
DTSTART:20250729T124011Z
TZOFFSETFROM:+0000
TZOFFSETTO:+0000
END:STANDARD
END:VTIMEZONE
BEGIN:VEVENT
UID:26-14
DTSTAMP:20260425T124011Z
SUMMARY:County Meeting
LOCATION:Aroostook
ORGANIZER;CN=unitedbikerstg:MAILTO:web@adventure29.com
DTSTART;TZID=Etc/GMT+0:20240414T110000
DTEND;TZID=Etc/GMT+0:20240414T120100
X-ALT-DESC;FMTTYPE=TEXT/HTML:Come help make plans for the year :)
CATEGORIES:General
URL;VALUE=URI:https://ubm-usa.org/mc-events/county-meeting/
METHOD:PUBLISH
END:VEVENT
END:VCALENDAR